BEGIN:VCALENDAR
VERSION:2.0
PRODID:-//GFCE Les Feuillus de la Double - ECPv6.15.20//NONSGML v1.0//EN
CALSCALE:GREGORIAN
METHOD:PUBLISH
X-WR-CALNAME:GFCE Les Feuillus de la Double
X-ORIGINAL-URL:https://lesfeuillusdeladouble.fr
X-WR-CALDESC:Évènements pour GFCE Les Feuillus de la Double
REFRESH-INTERVAL;VALUE=DURATION:PT1H
X-Robots-Tag:noindex
X-PUBLISHED-TTL:PT1H
BEGIN:VTIMEZONE
TZID:UTC
BEGIN:STANDARD
TZOFFSETFROM:+0000
TZOFFSETTO:+0000
TZNAME:UTC
DTSTART:20240101T000000
END:STANDARD
END:VTIMEZONE
BEGIN:VEVENT
DTSTART;TZID=UTC:20250518T100000
DTEND;TZID=UTC:20250518T170000
DTSTAMP:20260423T122906
CREATED:20250422T201614Z
LAST-MODIFIED:20250422T201614Z
UID:628-1747562400-1747587600@lesfeuillusdeladouble.fr
SUMMARY:Arc en ciel de plantes à la Ferme du Parcot
DESCRIPTION:Nous y tiendrons un stand. Venez nous y rejoindre! \nPlus d’informations sur le site du Parcot.
URL:https://lesfeuillusdeladouble.fr/event/arc-en-ciel-de-plantes-a-la-ferme-du-parcot/
LOCATION:Ferme du Parcot\, 68 chemin Abel Guionneau\, ECHOURGNAC\, 24410\, France
END:VEVENT
BEGIN:VEVENT
DTSTART;TZID=UTC:20250524T093000
DTEND;TZID=UTC:20250524T173000
DTSTAMP:20260423T122906
CREATED:20250423T160253Z
LAST-MODIFIED:20250423T160436Z
UID:645-1748079000-1748107800@lesfeuillusdeladouble.fr
SUMMARY:Une journée en forêt à la ferme du Parcot
DESCRIPTION:Nous y tiendrons un stand. \nLa journée est organisée par le département. Plus d’informations
URL:https://lesfeuillusdeladouble.fr/event/une-journee-en-foret-a-la-ferme-du-parcot/
LOCATION:Ferme du Parcot\, 68 chemin Abel Guionneau\, ECHOURGNAC\, 24410\, France
END:VEVENT
END:VCALENDAR