BEGIN:VCALENDAR
VERSION:2.0
PRODID:-//GFCE Les Feuillus de la Double - ECPv6.15.20//NONSGML v1.0//EN
CALSCALE:GREGORIAN
METHOD:PUBLISH
X-ORIGINAL-URL:https://lesfeuillusdeladouble.fr
X-WR-CALDESC:Évènements pour GFCE Les Feuillus de la Double
REFRESH-INTERVAL;VALUE=DURATION:PT1H
X-Robots-Tag:noindex
X-PUBLISHED-TTL:PT1H
BEGIN:VTIMEZONE
TZID:UTC
BEGIN:STANDARD
TZOFFSETFROM:+0000
TZOFFSETTO:+0000
TZNAME:UTC
DTSTART:20240101T000000
END:STANDARD
END:VTIMEZONE
BEGIN:VEVENT
DTSTART;TZID=UTC:20250920T143000
DTEND;TZID=UTC:20250920T173000
DTSTAMP:20260419T203333
CREATED:20250912T122131Z
LAST-MODIFIED:20250912T122131Z
UID:807-1758378600-1758389400@lesfeuillusdeladouble.fr
SUMMARY:Venez découvrir notre action à la faveur d'un partage de contes autour des arbres !
DESCRIPTION:L’événement est gratuit\, il s’agit d’un moment de partage autour du plaisir de s’en laisser conter\, de la découverte de parcelles du GFCE et d’échanges autour de notre projet. Nous vous attendons nombreux!
URL:https://lesfeuillusdeladouble.fr/event/venez-decouvrir-notre-action-a-la-faveur-dun-partage-de-contes-autour-des-arbres/
LOCATION:Le But à Ribérac\, 607 route du But\, RIBERAC\, Sélectionner un État :\, 24600\, France
END:VEVENT
END:VCALENDAR