BEGIN:VCALENDAR
VERSION:2.0
PRODID:-//GFCE Les Feuillus de la Double - ECPv6.15.20//NONSGML v1.0//EN
CALSCALE:GREGORIAN
METHOD:PUBLISH
X-WR-CALNAME:GFCE Les Feuillus de la Double
X-ORIGINAL-URL:https://lesfeuillusdeladouble.fr
X-WR-CALDESC:Évènements pour GFCE Les Feuillus de la Double
REFRESH-INTERVAL;VALUE=DURATION:PT1H
X-Robots-Tag:noindex
X-PUBLISHED-TTL:PT1H
BEGIN:VTIMEZONE
TZID:UTC
BEGIN:STANDARD
TZOFFSETFROM:+0000
TZOFFSETTO:+0000
TZNAME:UTC
DTSTART:20230101T000000
END:STANDARD
END:VTIMEZONE
BEGIN:VEVENT
DTSTART;VALUE=DATE:20241130
DTEND;VALUE=DATE:20241201
DTSTAMP:20260425T165127
CREATED:20241113T105923Z
LAST-MODIFIED:20241113T105923Z
UID:438-1732924800-1733011199@lesfeuillusdeladouble.fr
SUMMARY:Matinée (ou journée Pro Silva) à Louchats en Gironde
DESCRIPTION:L’association Pro-Silva dont nous sommes adhérents organise le 30 novembre au matin une conférence à Louchats en Gironde ;\nJacques Blot\, biogéographe renommé\, animera cette conférence captivante intitulée : « Dans l’intimité de l’arbre ».\nUne conférence pour comprendre la forêt\, des connaissances nouvelles sur l’arbre\, son fonctionnement\, ses relations avec son environnement et le vivant. plus d’infos ici \n 
URL:https://lesfeuillusdeladouble.fr/event/matinee-ou-journee-pro-silva-a-louchats-en-gironde/
LOCATION:Salle des fêtes de Louchats\, 999 route d'Archachon\, Hostens\, 33125\, France
END:VEVENT
END:VCALENDAR